BEGIN:VCALENDAR
PRODID:-//Bizzabo//EN
VERSION:2.0
BEGIN:VEVENT
UID:event-839681
ORGANIZER;CN="Powering a connected future: Can Asia build a super grid?":mailto:ftlive@ft.com
DTSTAMP:20260422T154211Z
DTSTART:20260506T040000Z
DTEND:20260506T050000Z
SUMMARY:Powering a connected future: Can Asia build a super grid?
DESCRIPTION:This session, hosted by the Financial Times as part of the A
 sian Development Bank Annual Meetings in Samarkand, will exp
 lore whether a pan-Asian super grid can move from concept to
  reality, and what it would require in terms of policy align
 ment, investment and regional cooperation.\n\n\nhttps://atte
 ndees.bizzabo.com/839681/agenda
LOCATION:https://attendees.bizzabo.com/839681/agenda
END:VEVENT
END:VCALENDAR